BEGIN:VCALENDAR
VERSION:2.0
PRODID:-//compassionatecareersproject.com - ECPv6.15.17//NONSGML v1.0//EN
CALSCALE:GREGORIAN
METHOD:PUBLISH
X-WR-CALNAME:compassionatecareersproject.com
X-ORIGINAL-URL:https://compassionatecareersproject.com
X-WR-CALDESC:Events for compassionatecareersproject.com
REFRESH-INTERVAL;VALUE=DURATION:PT1H
X-Robots-Tag:noindex
X-PUBLISHED-TTL:PT1H
BEGIN:VTIMEZONE
TZID:Australia/Melbourne
BEGIN:STANDARD
TZOFFSETFROM:+1100
TZOFFSETTO:+1000
TZNAME:AEST
DTSTART:20250405T160000
END:STANDARD
BEGIN:DAYLIGHT
TZOFFSETFROM:+1000
TZOFFSETTO:+1100
TZNAME:AEDT
DTSTART:20251004T160000
END:DAYLIGHT
BEGIN:STANDARD
TZOFFSETFROM:+1100
TZOFFSETTO:+1000
TZNAME:AEST
DTSTART:20260404T160000
END:STANDARD
BEGIN:DAYLIGHT
TZOFFSETFROM:+1000
TZOFFSETTO:+1100
TZNAME:AEDT
DTSTART:20261003T160000
END:DAYLIGHT
BEGIN:STANDARD
TZOFFSETFROM:+1100
TZOFFSETTO:+1000
TZNAME:AEST
DTSTART:20270403T160000
END:STANDARD
BEGIN:DAYLIGHT
TZOFFSETFROM:+1000
TZOFFSETTO:+1100
TZNAME:AEDT
DTSTART:20271002T160000
END:DAYLIGHT
END:VTIMEZONE
BEGIN:VEVENT
DTSTART;TZID=Australia/Melbourne:20260314T080000
DTEND;TZID=Australia/Melbourne:20260314T160000
DTSTAMP:20260420T164328
CREATED:20260307T040803Z
LAST-MODIFIED:20260307T040803Z
UID:27079-1773475200-1773504000@compassionatecareersproject.com
SUMMARY:QUT - Discover the World of Engineering!
DESCRIPTION:Join QUT\, in partnership with The Engineering Link Group\, Engineers Australia\, and the Queensland Government (Department of Transport and Main Roads)\, for an exciting day that showcases what engineering is really about – innovative\, challenging\, and world-changing. \nStudents in Years 9 to 12 are invited to take part in this hands-on engineering experience day. You’ll explore a variety of engineering disciplines through interactive workshops\, meet professional engineers\, and connect with QUT engineering students to learn what studying and working in this field is really like. \nFIND OUT MORE AND REGISTER
URL:https://compassionatecareersproject.com/event/qut-discover-the-world-of-engineering/
END:VEVENT
END:VCALENDAR