BEGIN:VCALENDAR
VERSION:2.0
PRODID:-//compassionatecareersproject.com - ECPv6.15.17//NONSGML v1.0//EN
CALSCALE:GREGORIAN
METHOD:PUBLISH
X-WR-CALNAME:compassionatecareersproject.com
X-ORIGINAL-URL:https://compassionatecareersproject.com
X-WR-CALDESC:Events for compassionatecareersproject.com
REFRESH-INTERVAL;VALUE=DURATION:PT1H
X-Robots-Tag:noindex
X-PUBLISHED-TTL:PT1H
BEGIN:VTIMEZONE
TZID:Australia/Melbourne
BEGIN:STANDARD
TZOFFSETFROM:+1100
TZOFFSETTO:+1000
TZNAME:AEST
DTSTART:20240406T160000
END:STANDARD
BEGIN:DAYLIGHT
TZOFFSETFROM:+1000
TZOFFSETTO:+1100
TZNAME:AEDT
DTSTART:20241005T160000
END:DAYLIGHT
BEGIN:STANDARD
TZOFFSETFROM:+1100
TZOFFSETTO:+1000
TZNAME:AEST
DTSTART:20250405T160000
END:STANDARD
BEGIN:DAYLIGHT
TZOFFSETFROM:+1000
TZOFFSETTO:+1100
TZNAME:AEDT
DTSTART:20251004T160000
END:DAYLIGHT
BEGIN:STANDARD
TZOFFSETFROM:+1100
TZOFFSETTO:+1000
TZNAME:AEST
DTSTART:20260404T160000
END:STANDARD
BEGIN:DAYLIGHT
TZOFFSETFROM:+1000
TZOFFSETTO:+1100
TZNAME:AEDT
DTSTART:20261003T160000
END:DAYLIGHT
END:VTIMEZONE
BEGIN:VEVENT
DTSTART;TZID=Australia/Melbourne:20250827T100000
DTEND;TZID=Australia/Melbourne:20250827T150000
DTSTAMP:20260420T152718
CREATED:20250818T035403Z
LAST-MODIFIED:20250818T035403Z
UID:26961-1756288800-1756306800@compassionatecareersproject.com
SUMMARY:A day in the life of an optometry student - Deakin University
DESCRIPTION:‘A day in the life of an optometry student’ is an opportunity for Year 11 students living in the South West and Grampians/Wimmera regions with an interest in optometry to experience what it is like to study at Deakin. Offered twice\, the day will include hands-on practical activities as well as the chance to learn more about pathways\, entry requirements and career options. \nAcademics and current students will be available to answer all your questions. \nPlease email us for more information\, expression of interest and participant consent forms. \nAn expression of interest (EOI) is required to be considered for the program. Limited places available. Please note that submitting an EOI does not guarantee a place in the program. \n\n\n\n\n\n\n\nEvent details\n\nLocation: Deakin University Geelong Waurn Ponds Campus \nEvent dates: 27 August 2025 (expressions of interest due 25 July) \nTime: On campus from 10am to 3pm \nTravel: Deakin is arranging shuttle buses from select locations in the South West and Grampians Regions. Contact the Pathways to Medicine Coordinators for details.
URL:https://compassionatecareersproject.com/event/a-day-in-the-life-of-an-optometry-student-deakin-university/
END:VEVENT
BEGIN:VEVENT
DTSTART;TZID=Australia/Melbourne:20250826T170000
DTEND;TZID=Australia/Melbourne:20250826T180000
DTSTAMP:20260420T152718
CREATED:20250818T035119Z
LAST-MODIFIED:20250818T035119Z
UID:26959-1756227600-1756231200@compassionatecareersproject.com
SUMMARY:Admission to Medicine and Dentistry at Sydney- ONLINE EVENT
DESCRIPTION:Join this pre-Open Day webinar to learn about the application process for Medicine and Dentistry at the University of Sydney\, and explore pathways to a dynamic career in health.
URL:https://compassionatecareersproject.com/event/admission-to-medicine-and-dentistry-at-sydney-online-event/
END:VEVENT
BEGIN:VEVENT
DTSTART;TZID=Australia/Melbourne:20250826T170000
DTEND;TZID=Australia/Melbourne:20250826T180000
DTSTAMP:20260420T152718
CREATED:20250818T034834Z
LAST-MODIFIED:20250818T034834Z
UID:26957-1756227600-1756231200@compassionatecareersproject.com
SUMMARY:Psychology Open Day Webinar - CQUniversity
DESCRIPTION:Join us for our Psychology Open Day webinar to discover what it’s like to study Psychology at CQU! \nAre you curious about studying Psychology? Whether you’re considering undergraduate or postgraduate studies\, our webinar is the perfect opportunity to get all the information you need! \nMeet our experienced teaching team\, eager to share their knowledge and insights with you. We’ll explore the various career paths a Psychology degree can open up\, discuss placement opportunities\, course accreditations\, and how our seamless pathways can help set you up for success.
URL:https://compassionatecareersproject.com/event/psychology-open-day-webinar-cquniversity/
END:VEVENT
BEGIN:VEVENT
DTSTART;TZID=Australia/Melbourne:20250819T130000
DTEND;TZID=Australia/Melbourne:20250819T140000
DTSTAMP:20260420T152718
CREATED:20250818T033821Z
LAST-MODIFIED:20250818T033821Z
UID:26947-1755608400-1755612000@compassionatecareersproject.com
SUMMARY:Meaningful and effective goal-setting in career education: Beyond SMART goals - ONLINE WITH MYFUTURES
DESCRIPTION:Goal-setting is one of the most fundamental skills in career education. But effective goal-setting is a complex and challenging skill which young people need to be taught. Common goal-setting frameworks\, such as the ubiquitous SMART goals\, may not always be the best way to encourage meaningful goal setting and achievement. In this pre-recorded webinar\, Flight Lieutenant Simon Pietsch\, High Performance Program Director in the Royal Australian Air Force and doctoral candidate with the University of Adelaide\, discusses his research into goal setting. In particular\, he discusses how his recent research found that the SMART goals framework is no more beneficial than other models of goal-setting. Simon will describe different kinds of goal-setting strategies and offer advice about how to select the most appropriate strategy for your students’ needs.
URL:https://compassionatecareersproject.com/event/meaningful-and-effective-goal-setting-in-career-education-beyond-smart-goals-online-with-myfutures/
END:VEVENT
BEGIN:VEVENT
DTSTART;TZID=Australia/Melbourne:20250818T080000
DTEND;TZID=Australia/Melbourne:20250818T170000
DTSTAMP:20260420T152718
CREATED:20250818T034526Z
LAST-MODIFIED:20250818T034526Z
UID:26955-1755504000-1755536400@compassionatecareersproject.com
SUMMARY:Studying Medicine at University of Sydney - ONLINE EVENET
DESCRIPTION:Join us ahead of Open Day for an exclusive webinar and discover how the University of Sydney can help you achieve your dream of becoming a doctor. Our Medicine degree equips you with the clinical expertise\, leadership skills\, and human understanding needed to make a meaningful impact—both in Australia and around the world. Throughout the session\, you’ll have the opportunity to ask questions directly to our academic and degree specialist team via a live Q&A\, helping you feel confident and prepared for a more immersive experience on Open Day. Sydney University Certified Numbers: CRICOS 00026A | TEQSA PRV12057.
URL:https://compassionatecareersproject.com/event/studying-medicine-at-university-of-sydney-online-evenet/
END:VEVENT
BEGIN:VEVENT
DTSTART;TZID=Australia/Melbourne:20250818T080000
DTEND;TZID=Australia/Melbourne:20250818T170000
DTSTAMP:20260420T152718
CREATED:20250818T034304Z
LAST-MODIFIED:20250818T034304Z
UID:26953-1755504000-1755536400@compassionatecareersproject.com
SUMMARY:Navigating your post-school plans with confidence- ONLINE EVENT WITH MYFUTURES
DESCRIPTION:School is such a big part of your life; you might have mixed feelings as you approach the end of it. You might be excited about your next steps. But it’s okay if you’re not sure about your post-school plans or feeling a bit anxious or overwhelmed about it all. In this pre-recorded session\, Dr Michael Healy\, myfuture’s National Career Education Manager will share six simple ideas that will help you think about your future with confidence. Some of them might surprise you! We’ll talk about: • Different kinds of post-school pathways. • Why it’s OK if you don’t know what you want to do. • Why it’s OK to change your mind. • Why ATAR might not be as important as you think. • How to research your options. • Who to talk to for help. This webinar is designed for students in senior secondary school\, but it’s suitable for parents and teachers too. We look forward to having you attend the event!
URL:https://compassionatecareersproject.com/event/navigating-your-post-school-plans-with-confidence-online-event-with-myfutures/
END:VEVENT
BEGIN:VEVENT
DTSTART;TZID=Australia/Melbourne:20250818T080000
DTEND;TZID=Australia/Melbourne:20250818T170000
DTSTAMP:20260420T152718
CREATED:20250818T034125Z
LAST-MODIFIED:20250818T034125Z
UID:26951-1755504000-1755536400@compassionatecareersproject.com
SUMMARY:Parent/Caregivers Supporting University Students (Access Monash) - ONLINE EVENT
DESCRIPTION:We hear a lot about university being stressful and a big change\, but how can we support students going through this? What can we do to ease this transition? What support services can we rely on and what support do universities offer? Hear from current Monash University students about their experiences moving from high school to University\, what supports they found helpful\, and how this transition can be aided by support people. Live Q&A included. \nWhat is Access Monash? \nAccess Monash enhances opportunities for secondary students from low Socio-Economic Status (SES) backgrounds and regional or remote locations\, helping them improve their educational outcomes and transform their lives. \nWe achieve this through our Access Monash mentoring program and School Access Monash activities. In addition to this\, we run a series of online seminars led by experienced Access Monash mentors\, giving students valuable first-hand insights into the university\, along with knowledge to assist schools students in their decision-making for the future. \nDATE: Wednesday\, 20 August 2025 \nTIME: 5.00 – 6.00pm AEST \nLOCATION: Online via Zoom
URL:https://compassionatecareersproject.com/event/parent-caregivers-supporting-university-students-access-monash-online-event/
END:VEVENT
BEGIN:VEVENT
DTSTART;TZID=Australia/Melbourne:20250818T080000
DTEND;TZID=Australia/Melbourne:20250818T170000
DTSTAMP:20260420T152718
CREATED:20250818T034001Z
LAST-MODIFIED:20250818T034001Z
UID:26949-1755504000-1755536400@compassionatecareersproject.com
SUMMARY:Explore Exercise and Sport Science\, and Exercise Physiology at University of Sydney - ONLINE EVENT
DESCRIPTION:Exercise scientists and exercise physiologists work in sport\, fitness\, rehabilitation\, health industries\, communities and health promotion. In the Bachelor of Applied Science (Exercise and Sport Science) you will learn about the human body\, how it works during exercise\, and how to optimise health and performance to help people reach their health and wellbeing goals. In the Bachelor of Applied Science (Exercise Physiology) you will explore exercise and behaviour change as strategies needed for the prevention and management of chronic diseases. In this webinar our academic experts will break down the similarities and differences across each discipline and delve into what each degree has to offer\, helping you find the career path better aligned with your interests. So\, bring along your curious minds!
URL:https://compassionatecareersproject.com/event/explore-exercise-and-sport-science-and-exercise-physiology-at-university-of-sydney-online-event/
END:VEVENT
BEGIN:VEVENT
DTSTART;TZID=Australia/Melbourne:20250724T153000
DTEND;TZID=Australia/Melbourne:20250724T170000
DTSTAMP:20260420T152718
CREATED:20250722T004643Z
LAST-MODIFIED:20250722T004758Z
UID:26627-1753371000-1753376400@compassionatecareersproject.com
SUMMARY:Conservation and Ecosystem Management Information Session - online with Melbourne Polytechnic
DESCRIPTION:Find out more about the following course(s) at Melbourne Polytechnic in this online session: \n\nDiploma of Conservation and Ecosystem Management\nDiploma of Agriculture\nCertificate IV in Agriculture\nCertificate III in Agriculture
URL:https://compassionatecareersproject.com/event/conservation-and-ecosystem-management-information-session-online-with-melbourne-polytechnic/
LOCATION:Online
END:VEVENT
BEGIN:VEVENT
DTSTART;TZID=Australia/Melbourne:20250723T160000
DTEND;TZID=Australia/Melbourne:20250723T170000
DTSTAMP:20260420T152718
CREATED:20250722T003754Z
LAST-MODIFIED:20250722T003754Z
UID:26620-1753286400-1753290000@compassionatecareersproject.com
SUMMARY:Veterinary Medicine Undergraduate Admissions Information Session - Online
DESCRIPTION:Join this session to learn about the Bachelor of Veterinary Biology and Doctor of Veterinary Medicine (BVB/DVM) at the University of Sydney. This session will cover undergraduate admission requirements for the BVB/DVM\, including details for the submission of your commitment statement and completion of the Casper situational judgement test. Bring along your questions to the Sydney School of Veterinary Science\, and get advice on your undergraduate application into the degree. \nFurther Details and Registration HERE
URL:https://compassionatecareersproject.com/event/veterinary-medicine-undergraduate-admissions-information-session-online/
END:VEVENT
END:VCALENDAR