BEGIN:VCALENDAR
VERSION:2.0
PRODID:-//compassionatecareersproject.com - ECPv6.15.17//NONSGML v1.0//EN
CALSCALE:GREGORIAN
METHOD:PUBLISH
X-WR-CALNAME:compassionatecareersproject.com
X-ORIGINAL-URL:https://compassionatecareersproject.com
X-WR-CALDESC:Events for compassionatecareersproject.com
REFRESH-INTERVAL;VALUE=DURATION:PT1H
X-Robots-Tag:noindex
X-PUBLISHED-TTL:PT1H
BEGIN:VTIMEZONE
TZID:Australia/Melbourne
BEGIN:STANDARD
TZOFFSETFROM:+1100
TZOFFSETTO:+1000
TZNAME:AEST
DTSTART:20250405T160000
END:STANDARD
BEGIN:DAYLIGHT
TZOFFSETFROM:+1000
TZOFFSETTO:+1100
TZNAME:AEDT
DTSTART:20251004T160000
END:DAYLIGHT
BEGIN:STANDARD
TZOFFSETFROM:+1100
TZOFFSETTO:+1000
TZNAME:AEST
DTSTART:20260404T160000
END:STANDARD
BEGIN:DAYLIGHT
TZOFFSETFROM:+1000
TZOFFSETTO:+1100
TZNAME:AEDT
DTSTART:20261003T160000
END:DAYLIGHT
BEGIN:STANDARD
TZOFFSETFROM:+1100
TZOFFSETTO:+1000
TZNAME:AEST
DTSTART:20270403T160000
END:STANDARD
BEGIN:DAYLIGHT
TZOFFSETFROM:+1000
TZOFFSETTO:+1100
TZNAME:AEDT
DTSTART:20271002T160000
END:DAYLIGHT
END:VTIMEZONE
BEGIN:VEVENT
DTSTART;TZID=Australia/Melbourne:20260312T160000
DTEND;TZID=Australia/Melbourne:20260312T180000
DTSTAMP:20260420T022052
CREATED:20260307T040214Z
LAST-MODIFIED:20260307T040214Z
UID:27074-1773331200-1773338400@compassionatecareersproject.com
SUMMARY:HOMESGLEN INSTITUTE OPEN DAY
DESCRIPTION:Open Day is a great opportunity for you to meet with teachers\, explore our campuses and study facilities\, and get a feel for Holmesglen life. Our sessions include presentations\, tours and Q&As – perfect for helping you map out your future study and career plans. Plus\, our friendly team is also available to help you apply on the day. \nFIND OUT MORE AND REGISTER
URL:https://compassionatecareersproject.com/event/homesglen-institute-open-day/
END:VEVENT
BEGIN:VEVENT
DTSTART;TZID=Australia/Melbourne:20260312T180000
DTEND;TZID=Australia/Melbourne:20260312T190000
DTSTAMP:20260420T022052
CREATED:20260307T040524Z
LAST-MODIFIED:20260307T040524Z
UID:27076-1773338400-1773342000@compassionatecareersproject.com
SUMMARY:Victoria Police: Life at the Academy – Online Webinar
DESCRIPTION:Curious about joining Victoria Police or already in the recruitment process? Wondering what life is really like at the Academy? \nDon’t miss this exclusive online information session—your ultimate insider guide to the Victoria Police Academy experience! \nJoin us for a deep dive into Academy life for Police Officers\, whilst touching on training for Protective Services Officers\, and Police Custody Officers. Get the real scoop on what your training journey will look like\, week by week. We’ll break down everything from exams to fitness training\, on-site accommodation to support systems—and even salary details. \nFIND OUT MORE AND REGISTER
URL:https://compassionatecareersproject.com/event/victoria-police-life-at-the-academy-online-webinar/
LOCATION:Online
END:VEVENT
END:VCALENDAR