BEGIN:VCALENDAR
VERSION:2.0
PRODID:-//compassionatecareersproject.com - ECPv6.15.17//NONSGML v1.0//EN
CALSCALE:GREGORIAN
METHOD:PUBLISH
X-ORIGINAL-URL:https://compassionatecareersproject.com
X-WR-CALDESC:Events for compassionatecareersproject.com
REFRESH-INTERVAL;VALUE=DURATION:PT1H
X-Robots-Tag:noindex
X-PUBLISHED-TTL:PT1H
BEGIN:VTIMEZONE
TZID:Australia/Melbourne
BEGIN:STANDARD
TZOFFSETFROM:+1100
TZOFFSETTO:+1000
TZNAME:AEST
DTSTART:20240406T160000
END:STANDARD
BEGIN:DAYLIGHT
TZOFFSETFROM:+1000
TZOFFSETTO:+1100
TZNAME:AEDT
DTSTART:20241005T160000
END:DAYLIGHT
BEGIN:STANDARD
TZOFFSETFROM:+1100
TZOFFSETTO:+1000
TZNAME:AEST
DTSTART:20250405T160000
END:STANDARD
BEGIN:DAYLIGHT
TZOFFSETFROM:+1000
TZOFFSETTO:+1100
TZNAME:AEDT
DTSTART:20251004T160000
END:DAYLIGHT
BEGIN:STANDARD
TZOFFSETFROM:+1100
TZOFFSETTO:+1000
TZNAME:AEST
DTSTART:20260404T160000
END:STANDARD
BEGIN:DAYLIGHT
TZOFFSETFROM:+1000
TZOFFSETTO:+1100
TZNAME:AEDT
DTSTART:20261003T160000
END:DAYLIGHT
END:VTIMEZONE
BEGIN:VEVENT
DTSTART;TZID=Australia/Melbourne:20250819T130000
DTEND;TZID=Australia/Melbourne:20250819T140000
DTSTAMP:20260416T013231
CREATED:20250818T033821Z
LAST-MODIFIED:20250818T033821Z
UID:26947-1755608400-1755612000@compassionatecareersproject.com
SUMMARY:Meaningful and effective goal-setting in career education: Beyond SMART goals - ONLINE WITH MYFUTURES
DESCRIPTION:Goal-setting is one of the most fundamental skills in career education. But effective goal-setting is a complex and challenging skill which young people need to be taught. Common goal-setting frameworks\, such as the ubiquitous SMART goals\, may not always be the best way to encourage meaningful goal setting and achievement. In this pre-recorded webinar\, Flight Lieutenant Simon Pietsch\, High Performance Program Director in the Royal Australian Air Force and doctoral candidate with the University of Adelaide\, discusses his research into goal setting. In particular\, he discusses how his recent research found that the SMART goals framework is no more beneficial than other models of goal-setting. Simon will describe different kinds of goal-setting strategies and offer advice about how to select the most appropriate strategy for your students’ needs.
URL:https://compassionatecareersproject.com/event/meaningful-and-effective-goal-setting-in-career-education-beyond-smart-goals-online-with-myfutures/
END:VEVENT
END:VCALENDAR